BEGIN:VCALENDAR
VERSION:2.0
PRODID:-//St Kentigern Hospice - ECPv6.15.20//NONSGML v1.0//EN
CALSCALE:GREGORIAN
METHOD:PUBLISH
X-WR-CALNAME:St Kentigern Hospice
X-ORIGINAL-URL:https://stkentigernhospice.org.uk
X-WR-CALDESC:Events for St Kentigern Hospice
REFRESH-INTERVAL;VALUE=DURATION:PT1H
X-Robots-Tag:noindex
X-PUBLISHED-TTL:PT1H
BEGIN:VTIMEZONE
TZID:UTC
BEGIN:STANDARD
TZOFFSETFROM:+0000
TZOFFSETTO:+0000
TZNAME:UTC
DTSTART:20250101T000000
END:STANDARD
END:VTIMEZONE
BEGIN:VEVENT
DTSTART;TZID=UTC:20260330T080000
DTEND;TZID=UTC:20260412T210000
DTSTAMP:20260419T234755
CREATED:20260312T143811Z
LAST-MODIFIED:20260312T143811Z
UID:30732-1774857600-1776027600@stkentigernhospice.org.uk
SUMMARY:St Kentigern Hospice Easter Egg Hunt
DESCRIPTION:This Easter Half Term – March 30th – April 12th\, 2026 \nHop on over for a basketful of Easter fun! \nBring the whole family this half term to enjoy the St Kentigern Hospice Easter Egg Hunt. A delightful\, family-friendly trail packed with colourful clues and hidden letters around St Asaph. It’s the perfect way to celebrate Easter\, enjoy the fresh air and create lasting memories\, all in aid of St Kentigern Hospice. \nHow it works: \nDonate to join the fun. \nCollect your activity sheet from St Kentigern Hospice to start your hunt. \nFollow the trail around St Asaph\, solving clues and discovering hidden letters along the way. \nComplete your hunt sheet and return it to us to be entered into our exciting prize draw! \nFantastic prizes to be won: \n\nFamily of 4 voucher for Manorafon Farm Park\nFamily of 4 mini-golf voucher for The Centre\, Ruthin\nEaster hamper\n\nSafety first: \nPlease remember to take care when crossing streets and walking along roads during the hunt – safety is egg-stra important! \nNot only will you enjoy a fun-filled family adventure\, but you’ll also be supporting St Kentigern Hospice\, helping us continue to provide vital care and services to our local community. Don’t miss out\, gather your family\, enjoy the hunt and make this Easter truly special! \nFor more information\, please contact: c.harris@stkenthigernhospice.org.uk \nWe hope you enjoy The St Kentigern Hospice Hunt!
URL:https://stkentigernhospice.org.uk/event/st-kentigern-hospice-easter-egg-hunt/
LOCATION:St Kentigern Hospice\, Upper Denbigh Rd\, St Asaph\, LL17 0RS\, United Kingdom
CATEGORIES:Campaign
ATTACH;FMTTYPE=image/png:https://stkentigernhospice.org.uk/wp-content/uploads/2026/03/Easter-Egg-Hunt-.png
END:VEVENT
BEGIN:VEVENT
DTSTART;TZID=UTC:20260423T173000
DTEND;TZID=UTC:20260423T210000
DTSTAMP:20260419T234755
CREATED:20260205T161907Z
LAST-MODIFIED:20260413T120022Z
UID:30623-1776965400-1776978000@stkentigernhospice.org.uk
SUMMARY:The Swish Swap & Social
DESCRIPTION:Say hello to The Swish Swap & Social\, an evening where community\, style and sustainability come together at our hospice in one irresistible package. \nSave the date for Thursday 23rd April. £20 per person with pizza and fizz included. Doors open at 5:30pm. \n\nHow It Works\nBring it:Each ticket holder can bring five pre-loved treasures from clothes\, shoes\, scarves\, or accessories\, drop off at reception on entry. Make sure they’re in good shape so someone new can fall in love with them! \nSocial time:Head into Caffi Cariad for a fun pizza & prosecco social while we sort and display every stylish piece. \nSwish time:When the social winds down\, the Swish officially opens! Browse the rails and choose 5 “new-to-you” gems to take home. \nFeel good:Any leftover items will be donated to our Pre-Loved Warehouse. \n\nSwishing is all about giving your wardrobe a little refresh by brining clothes you’ve outgrown (or simply don’t wear anymore) and swapping them for something new to you. This is more than a clothes swap\, it’s a wardrobe party with purpose. \n\nTickets\nBuy Tickets here: https://www.eventbrite.co.uk/e/swish-swap-and-social-tickets-1986332424753 | Tickets also available from the hospice fundraising team directly. Either pop in\, contact fundraising@stkentigerhospice.org.uk or call 01745 775415 to purchase. \n\nWe can’t wait to make this a fabulous evening\, filled with friends\, fizz\, fashion and fun! \nSee you at the Swish!
URL:https://stkentigernhospice.org.uk/event/the-swish-swap-social/
LOCATION:Caffi Cariad\, Upper Denbigh Rd\, Saint Asaph\, LL17 0RS\, United Kingdom
CATEGORIES:Caffi Cariad,Shopping
ATTACH;FMTTYPE=image/png:https://stkentigernhospice.org.uk/wp-content/uploads/2026/02/Switch-Swish-Event-5.png
END:VEVENT
BEGIN:VEVENT
DTSTART;VALUE=DATE:20260517
DTEND;VALUE=DATE:20260518
DTSTAMP:20260419T234755
CREATED:20260108T152517Z
LAST-MODIFIED:20260108T154402Z
UID:30507-1778976000-1779062399@stkentigernhospice.org.uk
SUMMARY:Essar Chester Half Marathon
DESCRIPTION:The Racecourse\, Chester CH1 2LY\, UK | Sunday\, 17th May\, 2026 \n\nThe Essar Chester Half Marathon is one of the UK’s longest established and most highly regarded half marathons\, starting and finishing in the historic Roman/Medieval international destination city of Chester. Enter early to enjoy our discounted prices. \nAs runners ourselves\, we are passionate about delivering what for us\, would be the perfect race; a premier quality\, competitively priced race which caters for the needs of runners of all abilities and speeds\, combined with friendliness and personal touches which are unique to us. \nTo register visit: runforcharity.com/charity-registration/st-kentigern-hospice/essar-chester-half-marathon/register
URL:https://stkentigernhospice.org.uk/event/essar-chester-half-marathon/
LOCATION:The Racecourse\, The Racecourse\, Chester\, CH1 2LY\, United Kingdom
CATEGORIES:Challenge
ATTACH;FMTTYPE=image/png:https://stkentigernhospice.org.uk/wp-content/uploads/2026/01/Essar-Chester-Half-Marathon-2.png
END:VEVENT
BEGIN:VEVENT
DTSTART;TZID=UTC:20260606T183000
DTEND;TZID=UTC:20260607T000000
DTSTAMP:20260419T234755
CREATED:20251216T103821Z
LAST-MODIFIED:20260210T121854Z
UID:30457-1780770600-1780790400@stkentigernhospice.org.uk
SUMMARY:Pearl Ball
DESCRIPTION:The Pearl Ball is an evening of celebration and generosity\, held in support of St Kentigern Hospice. All funds raised throughout the night will go directly towards the vital care and services here at St Kentigern Hospice. \nThe event will take place by kind permission of the owners at Pentre Mawr Country House\, near Llandyrnog. Set in the foothills of the Clwydian Range\, the venue offers a picturesque and enchanting backdrop for a truly memorable evening. \nGuests are invited to arrive at 6:00 pm\, with carriages at midnight. Tickets are £85 per person or £800 for a table of ten if booked by 30 April 2026. \nThe evening will begin with a welcome drink and canapés\, followed by a sumptuous three-course meal and cheese and biscuits\, with tea and coffee to conclude. The meal will be served by the award-winning Peninsula Caterers\, ensuring a dining experience to remember. \nGuests will also be entertained by the exceptionally talented musician Ron Saunders and a bar and table wine will be available for pre-order or purchase on the night. The evening will also feature a selection of fabulous raffle prizes and an exciting auction\, offering plenty of opportunities to contribute further to the hospice’s work. \nFor tickets and further information\, please contact Sue on 07501969103 or Angela on 07583480807. Join us for a night of elegance\, enjoyment and generosity\, all in support of a truly worthy cause.
URL:https://stkentigernhospice.org.uk/event/black-tie-gala/
LOCATION:Pentre Mawr\, Llandyrnog\, Denbigh LL16 4LA\, Pentre Mawr\, Llandyrnog\, Denbigh\, LL16 4LA
CATEGORIES:Dinner
ATTACH;FMTTYPE=image/png:https://stkentigernhospice.org.uk/wp-content/uploads/2025/12/Pearl-Ball.png
END:VEVENT
BEGIN:VEVENT
DTSTART;TZID=UTC:20260620T110000
DTEND;TZID=UTC:20260620T150000
DTSTAMP:20260419T234755
CREATED:20251216T103538Z
LAST-MODIFIED:20260402T092346Z
UID:30451-1781953200-1781967600@stkentigernhospice.org.uk
SUMMARY:Colour Run 2026
DESCRIPTION:We’re thrilled to be partnering with Gwrych Castle to bring a bold burst of colour\, fun\, and community spirit to North Wales with Colour Run 2025 on Saturday 20th June 2026. \nSet within the stunning Gwrych Castle grounds\, this unforgettable 5K colour run invites participants of all ages and abilities to walk\, run\, jog\, or skip their way through vibrant clouds of coloured powder at checkpoints along the route. Whether you’re racing for a personal best or simply enjoying the atmosphere\, this event is all about fun\, inclusivity\, and fundraising. Every participant will receive: \n\n🏃‍♀️ Race entry\n👕 Official white Colour Run t-shirt\n🔢 Race number\n\n💙 Supporting Two Incredible Causes\nFunds raised from the Colour Run will support: \n\nSt Kentigern Hospice\, providing compassionate care and support for people with life-limiting illnesses and their families\nGwrych Castle Preservation Trust\, dedicated to restoring the castle\, securing its future\, and returning it to its former glory\n\nBy taking part\, you’ll be helping make a real difference while having an amazing day out. \n⏰ Event Timetable\n\nRegistration opens: 10:00\nRun start time: 11:00\nEntry fee: £22.50 (adult) / £16.50 (child)\nEarly bird offer – 10% off until midnight Sunday 5th April 2026\nBook your tickets here: https://www.trybooking.com/uk/events/landing/109874\n\n\n🎉 Get Ready to Run\, Smile & Get Messy!\nGather your friends\, family\, colleagues\, or classmates and get ready for a day filled with laughter\, colour\, and community spirit — all set against the spectacular backdrop of Gwrych Castle. \nJoin us and be part of Colour Run 2026 – where every step makes a difference. 🌈
URL:https://stkentigernhospice.org.uk/event/colour-run-2026/
LOCATION:Gwrych Castle\, Tan-Y-Gopa Rd\, Abergele LL22 8ET\, Tan-Y-Gopa Rd\, Abergele LL22 8ET
CATEGORIES:Challenge
ATTACH;FMTTYPE=image/png:https://stkentigernhospice.org.uk/wp-content/uploads/2025/12/Colour-RUN-2026-2-1.png
END:VEVENT
BEGIN:VEVENT
DTSTART;TZID=UTC:20260703T090000
DTEND;TZID=UTC:20260703T170000
DTSTAMP:20260419T234755
CREATED:20251216T104146Z
LAST-MODIFIED:20260107T154348Z
UID:30460-1783069200-1783098000@stkentigernhospice.org.uk
SUMMARY:Rhuddlan Golf Day 2026
DESCRIPTION:Book your place on our 4 ball amateur Charity Golf Tournament at the beautiful Rhuddlan Golf Club which offers fine views and a sheltered climate screened by the Clwydian Range.\n\n𝗪𝗵𝗮𝘁 𝘆𝗼𝘂 𝗻𝗲𝗲𝗱 𝘁𝗼 𝗸𝗻𝗼𝘄 Friday 3rd July Rhuddlan Golf Club\, Meliden Road\, Rhuddlan\, Rhyl LL18 6LB Cost for team entry is £160 including food.\nThere will be a prize giving ceremony in the evening followed by an auction and raffle. This promises to be a fantastic day and will help raise vital funds for the hospice.\n\n𝗠𝗼𝗿𝗲 𝗶𝗻𝗳𝗼𝗿𝗺𝗮𝘁𝗶𝗼𝗻To register please contact Alwyn Mason on 01745 775422 or email a.mason@stkentigernhospice.org.uk for more information.
URL:https://stkentigernhospice.org.uk/event/rhuddlan-golf-day-2026/
LOCATION:Rhuddlan Golf Club\, Rhuddlan
CATEGORIES:Sports
ATTACH;FMTTYPE=image/jpeg:https://stkentigernhospice.org.uk/wp-content/uploads/2025/12/Rhuddlan-2026.jpeg
END:VEVENT
BEGIN:VEVENT
DTSTART;VALUE=DATE:20260705
DTEND;VALUE=DATE:20260706
DTSTAMP:20260419T234755
CREATED:20260108T153312Z
LAST-MODIFIED:20260108T154302Z
UID:30512-1783209600-1783295999@stkentigernhospice.org.uk
SUMMARY:Mold Triathlon - Sprint
DESCRIPTION:Wrexham Rd\, Mold CH7 1HT\, UK | Sunday\, 5th July\, 2026 \n\nJoin us for Mold Triathlon on Sunday 6th July 2025! \nSprint triathlon\, starting and finishing at Mold Leisure Centre. 450m swim in the leisure centre’s pool\, followed by a 15 mile (24km) cycle through the Flintshire countryside. The run route is a 2 lap route through Mold. \nTo register visit: runforcharity.com/charity-registration/st-kentigern-hospice/mold-triathlon-sprint/register
URL:https://stkentigernhospice.org.uk/event/mold-triathlon-sprint/
LOCATION:Wrexham Road\, Mold\, Wrexham Road\, Mold\, CH7 1HT\, UK\, United Kingdom
CATEGORIES:Challenge
ATTACH;FMTTYPE=image/png:https://stkentigernhospice.org.uk/wp-content/uploads/2026/01/Mold-Triathlon.png
END:VEVENT
BEGIN:VEVENT
DTSTART;TZID=UTC:20260710T100000
DTEND;TZID=UTC:20260710T170000
DTSTAMP:20260419T234755
CREATED:20251216T111010Z
LAST-MODIFIED:20260116T144947Z
UID:30471-1783677600-1783702800@stkentigernhospice.org.uk
SUMMARY:Food & Drink Festival
DESCRIPTION:There’s a delicious evening out on the horizon … join us soon for our Food & Drink Festival at St Kentigern Hospice\, celebrating great flavours\, local makers\, and our wonderful community. Full details are on their way…
URL:https://stkentigernhospice.org.uk/event/food-drink-festival/
LOCATION:Caffi Cariad\, Upper Denbigh Rd\, Saint Asaph\, LL17 0RS\, United Kingdom
CATEGORIES:Caffi Cariad,Fete
ATTACH;FMTTYPE=image/png:https://stkentigernhospice.org.uk/wp-content/uploads/2025/12/Food-Drink-Festival-1.png
END:VEVENT
BEGIN:VEVENT
DTSTART;TZID=UTC:20260801T210000
DTEND;TZID=UTC:20260802T100000
DTSTAMP:20260419T234755
CREATED:20251027T120233Z
LAST-MODIFIED:20251114T070805Z
UID:30184-1785618000-1785664800@stkentigernhospice.org.uk
SUMMARY:Snowdon Trek Challenge
DESCRIPTION:Registration\nRegistration Fee: £45\nHow much does it cost? £45 a month for 6 months or fundraising target from £270 (*Challenge balance due date 19th June 2026)\nCost includes: Professional Global Adventure Challenges leader to guide the trek\, breakfast\, hiking snacks\, medal & prosecco. \nEvent Overview\nJoin us for a thrilling adventure up Yr Wyddfa | Snowdon via the Llanberis (Tourist) Path! This trek is perfect for those looking for a challenge with stunning scenery\, camaraderie\, and a sense of achievement. \nDates: 1–2 August \nDay 1 – Trekking Yr Wyddfa | Snowdon\nRoute: Llanberis Path (Tourist Path) \nDistance: Approx. 9.5 miles \nItinerary: \n\nStart: Depart from the start venue and head to the Llanberis Path.\nPenceunant Tea House: Our first stop at this charming 18th-century cottage along the road.\nHalfway House Café: We leave the road and follow the path alongside the railway line to the café. The trail gradually becomes steeper and more rocky.\nClogwyn Station: Steep ascent under the railway bridge provides a short rest before the next challenging stretch.\nBwlch Glad Standing Stone: The gradient eases here\, and we follow the railway line toward the summit.\nSummit: Reach Snowdon’s peak at 3\,560 ft! Celebrate the achievement and take in the views (but don’t linger too long—it can be chilly!).\nDescent: A 2–3 hour trek back down\, finishing with a well-earned breakfast.\n\nNote: This is a challenging itinerary and may be subject to change. \nWhy Join?\n\nPush yourself with a rewarding physical challenge\nExperience breathtaking views of Snowdonia\nConnect with fellow adventurers\nCelebrate your achievement at the summit\n\nSecure your spot and start your Snowdon adventure today! \nReady to Start Your Adventure?\nSpaces are limited—secure your spot today and join us for an experience you’ll never forget. \n👉 https://www.globaladventurechallenges.com/stkentigernhospice \nFor more information or to register contact our Community Fundraiser Rhian on 01745 536020 or email fundraising@stkentigernhospice.org.uk
URL:https://stkentigernhospice.org.uk/event/snowdon-trek-challenge/
LOCATION:LL28 4SW
CATEGORIES:Challenge
ATTACH;FMTTYPE=image/png:https://stkentigernhospice.org.uk/wp-content/uploads/2025/10/Snowdon-at-Night-7.png
END:VEVENT
BEGIN:VEVENT
DTSTART;TZID=UTC:20260815T130000
DTEND;TZID=UTC:20260815T170000
DTSTAMP:20260419T234755
CREATED:20260409T112750Z
LAST-MODIFIED:20260409T112750Z
UID:30802-1786798800-1786813200@stkentigernhospice.org.uk
SUMMARY:It's a Knockout 2026
DESCRIPTION:It’s a Knockout is Back! \nGet ready for an unforgettable day of laughter\, teamwork\, and a little bit of friendly chaos — It’s a Knockout is officially back! \nGather your team\, recruit your troops\, and prepare to take on the challenge. With eight action-packed games\, including two hilarious costume rounds\, this is your chance to compete\, get messy\, and make some incredible memories\, while supporting a great cause. \nWhat to Expect \n\n3–4 hours of high-energy games\nTeams of 8–10 people\n£25 per person\nOpen to participants aged 18+\n\nBut it’s not just about winning on the day… \nMore Ways to Win \nAlongside the event champions\, there’s also a fundraising trophy up for grabs! The team that raises the most sponsorship will be crowned fundraising champions. \nAll teams will set up their fundraising pages via JustGiving\, and the competition begins as soon as your page goes live. A live leaderboard will track progress in the lead-up to the big day\, so the competition starts early! \nEvent Details \n📅 Saturday 15th August : 1pm – 5pm\n📍 Colwyn Bay Rugby Club \nTo secure your place\, simply contact Rhian within the fundraising team and pay your team entry fee. \nBring the Crowd! \nWhy not make a day of it? Spectators are more than welcome\, so bring your friends and family along to cheer you on. \n\nDelicious food available from Caffi Cariad\nFully stocked bar open at the clubhouse\nChildren’s activities\nIndoor and outdoor seating available\nNearby park and field — perfect for families
URL:https://stkentigernhospice.org.uk/event/its-a-knockout-2026/
LOCATION:Colwyn Bay Rugby Club\, Brookfield Dr\, Rhos on Sea\, Colwyn Bay\, LL28 4SW\, United Kingdom
CATEGORIES:Challenge
ATTACH;FMTTYPE=image/png:https://stkentigernhospice.org.uk/wp-content/uploads/2026/04/Ideas-Its-a-knock-out-2026.png
END:VEVENT
BEGIN:VEVENT
DTSTART;TZID=UTC:20260918T080000
DTEND;TZID=UTC:20260918T170000
DTSTAMP:20260419T234755
CREATED:20251216T105851Z
LAST-MODIFIED:20260107T154024Z
UID:30468-1789718400-1789750800@stkentigernhospice.org.uk
SUMMARY:Abergele Golf Day 2026
DESCRIPTION:Book your place on our 4 ball amateur Charity Golf Tournament at the beautiful Abergele Golf Club. The 18-hole course was formed in 1910 and established itself at its present location in 1968 near Gwrych Castle and is a member of the Community amateur sports club.\n\n𝗪𝗵𝗮𝘁 𝘆𝗼𝘂 𝗻𝗲𝗲𝗱 𝘁𝗼 𝗸𝗻𝗼𝘄 18th September 2026Abergele Golf Club\, Tan-Y-Gopa Rd\, Abergele LL22 8DS Cost for team entry is £160 including food.\nThere will be a prize giving ceremony in the evening followed by an auction and raffle. This promises to be a fantastic day and will help raise vital funds for the hospice.\n\n𝗠𝗼𝗿𝗲 𝗶𝗻𝗳𝗼𝗿𝗺𝗮𝘁𝗶𝗼𝗻To register please contact Alwyn Mason on 01745 775422 or email a.mason@stkentigernhospice.org.uk for more information.
URL:https://stkentigernhospice.org.uk/event/abergele-golf-day-2026/
LOCATION:LL28 4SW
ATTACH;FMTTYPE=image/jpeg:https://stkentigernhospice.org.uk/wp-content/uploads/2025/12/Abergele-2026.jpeg
END:VEVENT
BEGIN:VEVENT
DTSTART;TZID=UTC:20260926T190000
DTEND;TZID=UTC:20260926T210000
DTSTAMP:20260419T234755
CREATED:20251216T105042Z
LAST-MODIFIED:20260216T112004Z
UID:30464-1790449200-1790456400@stkentigernhospice.org.uk
SUMMARY:A Grand Night for Music
DESCRIPTION:Take your seats for A Grand Night of Music with St. Kentigern Hospice!  \nFor one unforgettable evening\, the world-famous Brighouse & Rastrick Brass Band\, renowned for its record-breaking triumphs joins the celebrated Welsh male voice choir Cor Godre’r Aran at the Pavilion Theatre. \nThe evening will be hosted by legendary S4C presenter Dilwyn Morgan. \nExperience the power\, precision\, and passion of brass and voices that have thrilled audiences from the Royal Albert Hall to Australia. All in support of St. Kentigern Hospice\, this is a night of music\, joy\, and generosity you won’t want to miss! \n________________________________________ \nCymerwch eich sedd am Noson Fawreddog o Gerddoriaeth gyda Hosbis Sant Cyndeyrn! \nAm un noson bythgofiadwy\, mae Band Pres byd-enwog Brighouse a Rastrick\, sy’n enwog am eu llwyddiannau arbennig\, yn ymuno â chôr meibion ​​​​Côr Godre’r Aran yn Theatr y Pafiliwn. \nBydd y noson yn cael ei gyflwyno gan y cyflwynydd eiconig o S4C\, Dilwyn Morgan. \nDewch i brofi pŵer\, cywirdeb ac angerdd pres a lleisiau sydd wedi cyffroi cynulleidfaoedd o Neuadd Frenhinol Albert i Awstralia. Dewch i gefnogi Hosbis Sant Cyndeyrn\, am noson arbennig o gerddoriaeth\, llawenydd a haelioni na fyddwch chi eisiau ei cholli!
URL:https://stkentigernhospice.org.uk/event/a-grand-night-for-singing/
LOCATION:Rhyl Pavilion\, The Promenade\, Rhyl\, Denbighshire\, LL18 3AQ\, United Kingdom
CATEGORIES:Concert
ATTACH;FMTTYPE=image/png:https://stkentigernhospice.org.uk/wp-content/uploads/2025/12/A-Grand-Night-for-Singing-.png
END:VEVENT
END:VCALENDAR