BEGIN:VCALENDAR
VERSION:2.0
PRODID:-//St Kentigern Hospice - ECPv6.15.20//NONSGML v1.0//EN
CALSCALE:GREGORIAN
METHOD:PUBLISH
X-WR-CALNAME:St Kentigern Hospice
X-ORIGINAL-URL:https://stkentigernhospice.org.uk
X-WR-CALDESC:Events for St Kentigern Hospice
REFRESH-INTERVAL;VALUE=DURATION:PT1H
X-Robots-Tag:noindex
X-PUBLISHED-TTL:PT1H
BEGIN:VTIMEZONE
TZID:UTC
BEGIN:STANDARD
TZOFFSETFROM:+0000
TZOFFSETTO:+0000
TZNAME:UTC
DTSTART:20250101T000000
END:STANDARD
END:VTIMEZONE
BEGIN:VEVENT
DTSTART;TZID=UTC:20260330T080000
DTEND;TZID=UTC:20260412T210000
DTSTAMP:20260419T200705
CREATED:20260312T143811Z
LAST-MODIFIED:20260312T143811Z
UID:30732-1774857600-1776027600@stkentigernhospice.org.uk
SUMMARY:St Kentigern Hospice Easter Egg Hunt
DESCRIPTION:This Easter Half Term – March 30th – April 12th\, 2026 \nHop on over for a basketful of Easter fun! \nBring the whole family this half term to enjoy the St Kentigern Hospice Easter Egg Hunt. A delightful\, family-friendly trail packed with colourful clues and hidden letters around St Asaph. It’s the perfect way to celebrate Easter\, enjoy the fresh air and create lasting memories\, all in aid of St Kentigern Hospice. \nHow it works: \nDonate to join the fun. \nCollect your activity sheet from St Kentigern Hospice to start your hunt. \nFollow the trail around St Asaph\, solving clues and discovering hidden letters along the way. \nComplete your hunt sheet and return it to us to be entered into our exciting prize draw! \nFantastic prizes to be won: \n\nFamily of 4 voucher for Manorafon Farm Park\nFamily of 4 mini-golf voucher for The Centre\, Ruthin\nEaster hamper\n\nSafety first: \nPlease remember to take care when crossing streets and walking along roads during the hunt – safety is egg-stra important! \nNot only will you enjoy a fun-filled family adventure\, but you’ll also be supporting St Kentigern Hospice\, helping us continue to provide vital care and services to our local community. Don’t miss out\, gather your family\, enjoy the hunt and make this Easter truly special! \nFor more information\, please contact: c.harris@stkenthigernhospice.org.uk \nWe hope you enjoy The St Kentigern Hospice Hunt!
URL:https://stkentigernhospice.org.uk/event/st-kentigern-hospice-easter-egg-hunt/
LOCATION:St Kentigern Hospice\, Upper Denbigh Rd\, St Asaph\, LL17 0RS\, United Kingdom
CATEGORIES:Campaign
ATTACH;FMTTYPE=image/png:https://stkentigernhospice.org.uk/wp-content/uploads/2026/03/Easter-Egg-Hunt-.png
END:VEVENT
BEGIN:VEVENT
DTSTART;TZID=UTC:20260321T183000
DTEND;TZID=UTC:20260321T210000
DTSTAMP:20260419T200705
CREATED:20260210T163405Z
LAST-MODIFIED:20260210T164535Z
UID:30636-1774117800-1774126800@stkentigernhospice.org.uk
SUMMARY:Smokehouse Night at Caffi Cariad
DESCRIPTION:Where smoke leads the menu… \nJoin us for an unforgettable evening at Caffi Cariad\, celebrating the deep\, comforting flavours of slow cooking and traditional smokehouse techniques. Expect rich aromas\, tender meats\, bold seasonings and carefully crafted dishes designed to showcase the magic of smoke at every stage of the menu. \nThis is a relaxed\, sociable dining experience perfect for food lovers\, date nights or catching up with friends over seriously good food. \nWhat to Expect\n\nA specially curated smokehouse-inspired menu\nSlow-cooked meats and flavour-packed sides\nSeasonal ingredients and house flavours\nVegan & vegetarian alternatives available\nWarm\, welcoming atmosphere\n\nEvery dish is prepared to highlight depth\, warmth and indulgent comfort — a night where flavour truly takes centre stage. See the full menu here: https://stkentigernhospice.org.uk/Smokehouse-Caffi-Cariad-Night.pdf  \nBooking\n📞 Call 07887 477116 to reserve your table📋 Menu available via the link in bio / belowLimited spaces available — advance booking recommended. \nCome hungry and enjoy a night of bold tastes and relaxed dining at Caffi Cariad.
URL:https://stkentigernhospice.org.uk/event/smokehouse-night-at-caffi-cariad/
LOCATION:Caffi Cariad\, Upper Denbigh Rd\, Saint Asaph\, LL17 0RS\, United Kingdom
CATEGORIES:Caffi Cariad
ATTACH;FMTTYPE=image/png:https://stkentigernhospice.org.uk/wp-content/uploads/2026/02/Smoke-House-Caffi-Night-2.png
END:VEVENT
END:VCALENDAR