BEGIN:VCALENDAR
VERSION:2.0
PRODID:-//St Kentigern Hospice - ECPv6.15.20//NONSGML v1.0//EN
CALSCALE:GREGORIAN
METHOD:PUBLISH
X-ORIGINAL-URL:https://stkentigernhospice.org.uk
X-WR-CALDESC:Events for St Kentigern Hospice
REFRESH-INTERVAL;VALUE=DURATION:PT1H
X-Robots-Tag:noindex
X-PUBLISHED-TTL:PT1H
BEGIN:VTIMEZONE
TZID:UTC
BEGIN:STANDARD
TZOFFSETFROM:+0000
TZOFFSETTO:+0000
TZNAME:UTC
DTSTART:20250101T000000
END:STANDARD
END:VTIMEZONE
BEGIN:VEVENT
DTSTART;TZID=UTC:20260703T090000
DTEND;TZID=UTC:20260703T170000
DTSTAMP:20260419T175305
CREATED:20251216T104146Z
LAST-MODIFIED:20260107T154348Z
UID:30460-1783069200-1783098000@stkentigernhospice.org.uk
SUMMARY:Rhuddlan Golf Day 2026
DESCRIPTION:Book your place on our 4 ball amateur Charity Golf Tournament at the beautiful Rhuddlan Golf Club which offers fine views and a sheltered climate screened by the Clwydian Range.\n\n𝗪𝗵𝗮𝘁 𝘆𝗼𝘂 𝗻𝗲𝗲𝗱 𝘁𝗼 𝗸𝗻𝗼𝘄 Friday 3rd July Rhuddlan Golf Club\, Meliden Road\, Rhuddlan\, Rhyl LL18 6LB Cost for team entry is £160 including food.\nThere will be a prize giving ceremony in the evening followed by an auction and raffle. This promises to be a fantastic day and will help raise vital funds for the hospice.\n\n𝗠𝗼𝗿𝗲 𝗶𝗻𝗳𝗼𝗿𝗺𝗮𝘁𝗶𝗼𝗻To register please contact Alwyn Mason on 01745 775422 or email a.mason@stkentigernhospice.org.uk for more information.
URL:https://stkentigernhospice.org.uk/event/rhuddlan-golf-day-2026/
LOCATION:Rhuddlan Golf Club\, Rhuddlan
CATEGORIES:Sports
ATTACH;FMTTYPE=image/jpeg:https://stkentigernhospice.org.uk/wp-content/uploads/2025/12/Rhuddlan-2026.jpeg
END:VEVENT
END:VCALENDAR